BEGIN:VCALENDAR
VERSION:2.0
PRODID:-//The Brookwood Community - ECPv6.15.17//NONSGML v1.0//EN
CALSCALE:GREGORIAN
METHOD:PUBLISH
X-ORIGINAL-URL:https://brookwoodcommunity.org
X-WR-CALDESC:Events for The Brookwood Community
REFRESH-INTERVAL;VALUE=DURATION:PT1H
X-Robots-Tag:noindex
X-PUBLISHED-TTL:PT1H
BEGIN:VTIMEZONE
TZID:America/Chicago
BEGIN:DAYLIGHT
TZOFFSETFROM:-0600
TZOFFSETTO:-0500
TZNAME:CDT
DTSTART:20250309T080000
END:DAYLIGHT
BEGIN:STANDARD
TZOFFSETFROM:-0500
TZOFFSETTO:-0600
TZNAME:CST
DTSTART:20251102T070000
END:STANDARD
BEGIN:DAYLIGHT
TZOFFSETFROM:-0600
TZOFFSETTO:-0500
TZNAME:CDT
DTSTART:20260308T080000
END:DAYLIGHT
BEGIN:STANDARD
TZOFFSETFROM:-0500
TZOFFSETTO:-0600
TZNAME:CST
DTSTART:20261101T070000
END:STANDARD
BEGIN:DAYLIGHT
TZOFFSETFROM:-0600
TZOFFSETTO:-0500
TZNAME:CDT
DTSTART:20270314T080000
END:DAYLIGHT
BEGIN:STANDARD
TZOFFSETFROM:-0500
TZOFFSETTO:-0600
TZNAME:CST
DTSTART:20271107T070000
END:STANDARD
END:VTIMEZONE
BEGIN:VEVENT
DTSTART;TZID=America/Chicago:20260529T103000
DTEND;TZID=America/Chicago:20260529T140000
DTSTAMP:20260421T203232
CREATED:20260421T181750Z
LAST-MODIFIED:20260421T183936Z
UID:12833-1780050600-1780063200@brookwoodcommunity.org
SUMMARY:Spring Container Workshop Lunch and Learn May 29
DESCRIPTION:Spring Splendor: Gardening Workshop with Brookwood Horticulture\n  \nDive into the joys of spring gardening with our exclusive workshop! Join us for a hands-on experience where you’ll craft your own stunning Spring container garden centerpiece using locally grown plants nurtured by the talented Brookwood Citizens. Get insider tips and expert advice from none other than Brookwood’s own Horticulture Manager\, Robert Grove! \n\nJoin us for our LUNCH & LEARN on FRIDAY\, May 29. Enjoy a delicious lunch at The Brookwood Café and participants will make their own container garden with supplies provided by Brookwood Horticulture. \nTwo sessions to choose from on Friday\, May 29 \n\n10:30 AM\nNoon\n\nBrookwood Café\n1502 FM 1489\nBrookshire. TX 77423 \nRegistration: $45.00 (plus tax) includes a delicious lunch at the Brookwood Café. \nRegister Here\n  \n\nThank you for supporting the beloved adults with disABILITIES who live and work at Brookwood!\n \nVisit our Events Calendar for the full schedule of Brookwood’s upcoming events.   \nChanging the way the world thinks about adults with disabilities
URL:https://brookwoodcommunity.org/event/spring-container-workshop-lunch-and-learn-may-29/
LOCATION:Brookwood Gift & Garden Center & Café\, 1502 FM 1489\, Brookshire\, TX\, 77423\, United States
CATEGORIES:Featured on home page
ATTACH;FMTTYPE=image/png:https://brookwoodcommunity.org/wp-content/uploads/2026/04/202605-May-Lunch-Learn-Website-Event-Image.png
END:VEVENT
END:VCALENDAR