BEGIN:VCALENDAR
VERSION:2.0
PRODID:-//The Brookwood Community - ECPv6.15.17//NONSGML v1.0//EN
CALSCALE:GREGORIAN
METHOD:PUBLISH
X-WR-CALNAME:The Brookwood Community
X-ORIGINAL-URL:https://brookwoodcommunity.org
X-WR-CALDESC:Events for The Brookwood Community
REFRESH-INTERVAL;VALUE=DURATION:PT1H
X-Robots-Tag:noindex
X-PUBLISHED-TTL:PT1H
BEGIN:VTIMEZONE
TZID:America/Chicago
BEGIN:DAYLIGHT
TZOFFSETFROM:-0600
TZOFFSETTO:-0500
TZNAME:CDT
DTSTART:20250309T080000
END:DAYLIGHT
BEGIN:STANDARD
TZOFFSETFROM:-0500
TZOFFSETTO:-0600
TZNAME:CST
DTSTART:20251102T070000
END:STANDARD
BEGIN:DAYLIGHT
TZOFFSETFROM:-0600
TZOFFSETTO:-0500
TZNAME:CDT
DTSTART:20260308T080000
END:DAYLIGHT
BEGIN:STANDARD
TZOFFSETFROM:-0500
TZOFFSETTO:-0600
TZNAME:CST
DTSTART:20261101T070000
END:STANDARD
BEGIN:DAYLIGHT
TZOFFSETFROM:-0600
TZOFFSETTO:-0500
TZNAME:CDT
DTSTART:20270314T080000
END:DAYLIGHT
BEGIN:STANDARD
TZOFFSETFROM:-0500
TZOFFSETTO:-0600
TZNAME:CST
DTSTART:20271107T070000
END:STANDARD
END:VTIMEZONE
BEGIN:VEVENT
DTSTART;TZID=America/Chicago:20260424T103000
DTEND;TZID=America/Chicago:20260424T130000
DTSTAMP:20260421T185122
CREATED:20260204T190935Z
LAST-MODIFIED:20260421T181927Z
UID:12280-1777026600-1777035600@brookwoodcommunity.org
SUMMARY:Floral Design Lunch and Learn April 24
DESCRIPTION:April Lunch & Learn: Floral Design\nJoin Brookwood® Horticulture for a creative and inspiring Floral Design Lunch and Learn on April 24 at 10:30am. Enjoy a delicious lunch while learning the basics of floral design from our talented team\, who will guide you through seasonal blooms\, design techniques\, and tips you can use at home or for entertaining. \nPerfect for friends\, teams\, or anyone looking to learn something new in a beautiful and welcoming setting\, this Lunch and Learn is a wonderful way to connect\, create\, and give back—all in one afternoon. \n\n\nDate: Friday – April 24\, 2026\nTime: 10:30am-1:00pm\nLocation: The Brookwood Café\nRegistration: $45 (plus tax) includes a delicious lunch and a FREE take home gift \n\n\nWhat to Expect\n\nFLORAL DESIGN KNOW-HOW: Learn from special guest Rhonda Kaiser\, a gardening and design expert of Southern Home & Farm\, author\, and content creator known for her beautiful outdoor spaces and vintage-inspired style. Rhonda has been featured in Better Homes & Gardens\, Southern Living\, Martha Stewart\, and more\, and is a recurring guest on Houston Life. With a background in floral work\, interior and landscape design\, and as a certified Texas Master Gardener\, she brings a wealth of practical knowledge and creative inspiration. Rhonda will share her expertise on floral design\, gardening\, and creating stunning arrangements that elevate everyday spaces.\nFOR EVERY SKILL LEVEL:  Whether you’ve never arranged flowers before or love having fresh blooms on your table\, this Lunch and Learn offers approachable guidance and confidence-building tips anyone can enjoy.\nLUNCH: Enjoy a delicious meal prepared by The Brookwood Café while soaking in creative inspiration and hands-on floral design instruction.\nQ&A SESSION:  Bring your questions and gain practical floral tips you can use right away—from caring for cut flowers to styling arrangements for different spaces.\nSPECIAL TAKE-HOME GIFT: Each guest will receive a 7-inch hydrangea to take home—a beautiful reminder of the day and a living symbol of growth\, purpose\, and the meaningful mission behind Brookwood.\n\nSOLD OUT – Thank you so much!\n\n\nThank you for supporting the beloved adults with disABILITIES who live and work at Brookwood! \nChanging the way the world thinks about adults with disabilities \nVisit our Events Calendar for the full schedule of Brookwood’s upcoming events.   \nCANCELLATION POLICY: \n\nFull Refund (100%): Requests made 7 or more days before the event date will be eligible for a full refund.\nPartial Refund (50%): Requests made between 6 days and 48 hours before the event date will be eligible for a 50% refund.\nNo Refund: Requests made less than 48 hours before the event or on the same day as the event will not be eligible for a refund.
URL:https://brookwoodcommunity.org/event/floral-design-lunch-and-learn-april-24/
LOCATION:Brookwood Gift & Garden Center & Café\, 1502 FM 1489\, Brookshire\, TX\, 77423\, United States
CATEGORIES:Featured on home page
ATTACH;FMTTYPE=image/png:https://brookwoodcommunity.org/wp-content/uploads/2026/02/202604-April-Lunch-Learn-Website-Event-Image.png
END:VEVENT
END:VCALENDAR