BEGIN:VCALENDAR
VERSION:2.0
PRODID:-//The Brookwood Community - ECPv6.15.17//NONSGML v1.0//EN
CALSCALE:GREGORIAN
METHOD:PUBLISH
X-WR-CALNAME:The Brookwood Community
X-ORIGINAL-URL:https://brookwoodcommunity.org
X-WR-CALDESC:Events for The Brookwood Community
REFRESH-INTERVAL;VALUE=DURATION:PT1H
X-Robots-Tag:noindex
X-PUBLISHED-TTL:PT1H
BEGIN:VTIMEZONE
TZID:America/Chicago
BEGIN:DAYLIGHT
TZOFFSETFROM:-0600
TZOFFSETTO:-0500
TZNAME:CDT
DTSTART:20250309T080000
END:DAYLIGHT
BEGIN:STANDARD
TZOFFSETFROM:-0500
TZOFFSETTO:-0600
TZNAME:CST
DTSTART:20251102T070000
END:STANDARD
BEGIN:DAYLIGHT
TZOFFSETFROM:-0600
TZOFFSETTO:-0500
TZNAME:CDT
DTSTART:20260308T080000
END:DAYLIGHT
BEGIN:STANDARD
TZOFFSETFROM:-0500
TZOFFSETTO:-0600
TZNAME:CST
DTSTART:20261101T070000
END:STANDARD
BEGIN:DAYLIGHT
TZOFFSETFROM:-0600
TZOFFSETTO:-0500
TZNAME:CDT
DTSTART:20270314T080000
END:DAYLIGHT
BEGIN:STANDARD
TZOFFSETFROM:-0500
TZOFFSETTO:-0600
TZNAME:CST
DTSTART:20271107T070000
END:STANDARD
END:VTIMEZONE
BEGIN:VEVENT
DTSTART;TZID=America/Chicago:20260328T090000
DTEND;TZID=America/Chicago:20260328T103000
DTSTAMP:20260421T203756
CREATED:20250218T183729Z
LAST-MODIFIED:20260224T205849Z
UID:10797-1774688400-1774693800@brookwoodcommunity.org
SUMMARY:Brookwood Breakfast with Bunny March 28
DESCRIPTION:Get ready for an Easter celebration at Brookwood Cafe! Breakfast with Bunny is on two Saturdays!\n  \nJoin us for a delightful breakfast buffet March 28 and meet the Easter Bunny along with his friends from Katy Feed & Tack! Hop on over for a breakfast experience like no other! Enjoy Family-Style\, European Seating at Breakfast with Bunny! Rub elbows (and bunny tails) with new friends as you gather around communal tables\, sharing delicious bites and plenty of laughs. Who knows—you might just make a friend as sweet as the pastries! \n\nChoose from three breakfast seating options on:🐰 Saturday\, March 28 – 9:00 am\, 9:15 am\, or 9:30 am.🎟️ Secure your reservations now: \nSat\, March 28 Registration\nPrices:🐇 Adults: $24.99 (+tax)🐇 Children under 12: $12.99 (+tax) \nDon’t wait—hop into Easter joy with us! It’s going to be an egg-citing morning of food\, fun\, and festive cheer! \n\n  \nThank you for supporting the beloved adults with disABILITIES who live and work at Brookwood! \nChanging the way the world thinks about adults with disabilities \nVisit our Events Calendar for the full schedule of Brookwood’s upcoming events.   \nCANCELLATION POLICY: \n\nFull Refund (100%): Requests made 7 or more days before the event date will be eligible for a full refund.\nPartial Refund (50%): Requests made between 6 days and 48 hours before the event date will be eligible for a 50% refund.\nNo Refund: Requests made less than 48 hours before the event or on the same day as the event will not be eligible for a refund.
URL:https://brookwoodcommunity.org/event/brookwood-breakfast-with-bunny-march-28/
LOCATION:Brookwood Café
CATEGORIES:Featured on home page
ATTACH;FMTTYPE=image/png:https://brookwoodcommunity.org/wp-content/uploads/2025/02/2026-Breakfast-with-Bunny-Website-Event-March-28.png
END:VEVENT
END:VCALENDAR